BEGIN:VCALENDAR
VERSION:2.0
PRODID:-//jEvents 2.0 for Joomla//EN
CALSCALE:GREGORIAN
METHOD:PUBLISH
BEGIN:VTIMEZONE
TZID:Europe/Paris
BEGIN:STANDARD
DTSTART:20241027T020000
RDATE:20250330T030000
TZOFFSETFROM:+0200
TZOFFSETTO:+0100
TZNAME:Europe/Paris CET
END:STANDARD
BEGIN:STANDARD
DTSTART:20251026T020000
RDATE:20260329T030000
TZOFFSETFROM:+0200
TZOFFSETTO:+0100
TZNAME:Europe/Paris CET
END:STANDARD
BEGIN:STANDARD
DTSTART:20261025T020000
RDATE:20270328T030000
TZOFFSETFROM:+0200
TZOFFSETTO:+0100
TZNAME:Europe/Paris CET
END:STANDARD
BEGIN:STANDARD
DTSTART:20271031T020000
RDATE:20280326T030000
TZOFFSETFROM:+0200
TZOFFSETTO:+0100
TZNAME:Europe/Paris CET
END:STANDARD
BEGIN:DAYLIGHT
DTSTART:20240627T100000
RDATE:20241027T020000
TZOFFSETFROM:+0100
TZOFFSETTO:+0200
TZNAME:Europe/Paris CEST
END:DAYLIGHT
BEGIN:DAYLIGHT
DTSTART:20250330T030000
RDATE:20251026T020000
TZOFFSETFROM:+0100
TZOFFSETTO:+0200
TZNAME:Europe/Paris CEST
END:DAYLIGHT
BEGIN:DAYLIGHT
DTSTART:20260329T030000
RDATE:20261025T020000
TZOFFSETFROM:+0100
TZOFFSETTO:+0200
TZNAME:Europe/Paris CEST
END:DAYLIGHT
BEGIN:DAYLIGHT
DTSTART:20270328T030000
RDATE:20271031T020000
TZOFFSETFROM:+0100
TZOFFSETTO:+0200
TZNAME:Europe/Paris CEST
END:DAYLIGHT
END:VTIMEZONE
BEGIN:VEVENT
UID:d990b24192b10151e469777cf06d1425
CATEGORIES:Evènement
CREATED:20250306T220838
SUMMARY:Etrechy : Fête du sport
LOCATION:Dojo Etrechy
DESCRIPTION:A l'occasion de la fête du sport à Etrechy, un programme spécial vous atten
 d.\nRetrouvez le programme ici (https://www.ville-etrechy.fr/decouvrir-boug
 er/culture-et-loisirs/evenements-culturels/1027-la-fete-du-sport-2025) \n
X-ALT-DESC;FMTTYPE=text/html:<p>A l'occasion de la fête du sport à Etrechy, un programme spécial vous at
 tend.</p><p>Retrouvez le programme <a href="https://www.ville-etrechy.fr/de
 couvrir-bouger/culture-et-loisirs/evenements-culturels/1027-la-fete-du-spor
 t-2025" target="_blank" rel="noopener" class="highslide">ici</a>&nbsp;</p>
DTSTAMP:20260420T085614
DTSTART;TZID=Europe/Paris:20250628T100000
DTEND;TZID=Europe/Paris:20250628T180000
SEQUENCE:0
TRANSP:OPAQUE
END:VEVENT
END:VCALENDAR